BEGIN:VCALENDAR
VERSION:2.0
PRODID:-//L&#039;Inspire et le Geste - ECPv6.15.17//NONSGML v1.0//EN
CALSCALE:GREGORIAN
METHOD:PUBLISH
X-WR-CALNAME:L&#039;Inspire et le Geste
X-ORIGINAL-URL:https://linspireetlegeste.fr
X-WR-CALDESC:Évènements pour L&#039;Inspire et le Geste
REFRESH-INTERVAL;VALUE=DURATION:PT1H
X-Robots-Tag:noindex
X-PUBLISHED-TTL:PT1H
BEGIN:VTIMEZONE
TZID:Europe/Paris
BEGIN:DAYLIGHT
TZOFFSETFROM:+0100
TZOFFSETTO:+0200
TZNAME:CEST
DTSTART:20250330T010000
END:DAYLIGHT
BEGIN:STANDARD
TZOFFSETFROM:+0200
TZOFFSETTO:+0100
TZNAME:CET
DTSTART:20251026T010000
END:STANDARD
BEGIN:DAYLIGHT
TZOFFSETFROM:+0100
TZOFFSETTO:+0200
TZNAME:CEST
DTSTART:20260329T010000
END:DAYLIGHT
BEGIN:STANDARD
TZOFFSETFROM:+0200
TZOFFSETTO:+0100
TZNAME:CET
DTSTART:20261025T010000
END:STANDARD
BEGIN:DAYLIGHT
TZOFFSETFROM:+0100
TZOFFSETTO:+0200
TZNAME:CEST
DTSTART:20270328T010000
END:DAYLIGHT
BEGIN:STANDARD
TZOFFSETFROM:+0200
TZOFFSETTO:+0100
TZNAME:CET
DTSTART:20271031T010000
END:STANDARD
END:VTIMEZONE
BEGIN:VEVENT
DTSTART;VALUE=DATE:20260321
DTEND;VALUE=DATE:20260323
DTSTAMP:20260419T183336
CREATED:20250120T153536Z
LAST-MODIFIED:20251118T160118Z
UID:60580-1774051200-1774223999@linspireetlegeste.fr
SUMMARY:Les 6 Sons Thérapeutiques & Les 24 Exercices Taoïstes
DESCRIPTION:Stage de 2 jours- Tout niveau \nDeux jours pour éveiller le souffle\, la vibration et l’énergie vitale\nCe stage propose une exploration de deux pratiques complémentaires issues de la tradition énergétique chinoise: \n\nLes 6 Sons Thérapeutiques (Liu Zi Jue)\nLes 24 Exercices Taoïstes\n\nL’union de ces deux approches vous invite à aller vers l’interne avec les sons\, à entrer dans un espace d’écoute subtile. Puis de délier le corps avec les mouvements. \nLiu Zi Jue – 六字诀 : les 6 expressions subtiles\nTraduit couramment par « les 6 sons thérapeutiques »\, Liu Zi Jue signifie aussi « les 6 expressions subtiles »\, soulignant l’aspect vibratoire\, intérieur et poétique de cette pratique.\nÀ travers l’émission de sons spécifiques\, vous viendrez accorder chacun de vos organes à sa vibration propre\, comme on accorde un instrument de musique.\nChaque son est relié à un organe\, une émotion\, un mouvement et une dynamique énergétique: \n\nFoie – SHU: apaiser la colère\, relâcher la tension\nCœur – HE: calmer le feu\, ouvrir la joie\nRate – HU: digérer\, se sentir à sa place\nPoumons – SI: libérer le chagrin\, respirer pleinement\nReins – CHUI: nourrir l’énergie profonde\, apaiser la peur\nTriple réchauffeur – XI: harmoniser les échanges internes\n\nL’émission des sons\, combinée à des mouvements doux\, agit comme une réinitialisation vibratoire du corps. L’effet est souvent immédiat\, et procure un sentiment d’harmonie retrouvée. \nLes 24 Exercices Taoïstes \nUne série simple\, accessible \nCette série de 24 mouvements constitue une excellente base préparatoire.\nElle associe douceur\, tonicité et plaisir du mouvement\, en favorisant : \n\nL’ancrage et la stabilité\nLa souplesse articulaire\nLa coordination et la fluidité\n\nC’est une pratique ludique et efficace. \nDéroulement du stage \n\nÉchauffements doux et conscience corporelle\nApprentissage progressif de quelques gestes des 24 exercices taoïstes\nApprofondissement du Liu Zi Jue : les 6 sons\, postures\, visualisations\nTemps de détente\, de silence et de ressenti\nPartages et questions pour intégrer la pratique dans le quotidien\nApports sur la médecine traditionnelle chinoise et les correspondances organes/émotions/saisons\n\nPublic \nCe stage s’adresse à tout niveau. Aucune souplesse ni expérience préalable n’est nécessaire. La pratique est douce et respectueuse des limites de chacun·e.\n \nTarif : 170€\nHoraire : Samedi : 9h30-12h30 et 15h-18h\nDimanche : 9h-12h et 14h30-16h30 \nRepas du midi: 15€/jour \nLogement à prévoir par vos soins. \n→ Télécharger le bulletin d’inscription
URL:https://linspireetlegeste.fr/evenement/respiration-et-6-sons-en-lien-avec-chaque-organe/
LOCATION:Saint-Peray\, 9\, Rue Antonin Basset (salle paroissiale)\, Saint-Peray\, 07130
CATEGORIES:Stage
ATTACH;FMTTYPE=image/jpeg:https://linspireetlegeste.fr/wp-content/uploads/2025/01/duotone.jpg
ORGANIZER;CN="L'inspire et le geste":MAILTO:linspire.et.le.geste@gmail.com
END:VEVENT
END:VCALENDAR